BEGIN:VCALENDAR
VERSION:2.0
PRODID:-//Freedom Festival - ECPv6.15.17.1//NONSGML v1.0//EN
CALSCALE:GREGORIAN
METHOD:PUBLISH
X-WR-CALNAME:Freedom Festival
X-ORIGINAL-URL:https://freedomfestivalusa.org
X-WR-CALDESC:Events for Freedom Festival
REFRESH-INTERVAL;VALUE=DURATION:PT1H
X-Robots-Tag:noindex
X-PUBLISHED-TTL:PT1H
BEGIN:VTIMEZONE
TZID:America/Los_Angeles
BEGIN:DAYLIGHT
TZOFFSETFROM:-0800
TZOFFSETTO:-0700
TZNAME:PDT
DTSTART:20240310T100000
END:DAYLIGHT
BEGIN:STANDARD
TZOFFSETFROM:-0700
TZOFFSETTO:-0800
TZNAME:PST
DTSTART:20241103T090000
END:STANDARD
BEGIN:DAYLIGHT
TZOFFSETFROM:-0800
TZOFFSETTO:-0700
TZNAME:PDT
DTSTART:20250309T100000
END:DAYLIGHT
BEGIN:STANDARD
TZOFFSETFROM:-0700
TZOFFSETTO:-0800
TZNAME:PST
DTSTART:20251102T090000
END:STANDARD
BEGIN:DAYLIGHT
TZOFFSETFROM:-0800
TZOFFSETTO:-0700
TZNAME:PDT
DTSTART:20260308T100000
END:DAYLIGHT
BEGIN:STANDARD
TZOFFSETFROM:-0700
TZOFFSETTO:-0800
TZNAME:PST
DTSTART:20261101T090000
END:STANDARD
END:VTIMEZONE
BEGIN:VTIMEZONE
TZID:America/New_York
BEGIN:DAYLIGHT
TZOFFSETFROM:-0500
TZOFFSETTO:-0400
TZNAME:EDT
DTSTART:20240310T070000
END:DAYLIGHT
BEGIN:STANDARD
TZOFFSETFROM:-0400
TZOFFSETTO:-0500
TZNAME:EST
DTSTART:20241103T060000
END:STANDARD
BEGIN:DAYLIGHT
TZOFFSETFROM:-0500
TZOFFSETTO:-0400
TZNAME:EDT
DTSTART:20250309T070000
END:DAYLIGHT
BEGIN:STANDARD
TZOFFSETFROM:-0400
TZOFFSETTO:-0500
TZNAME:EST
DTSTART:20251102T060000
END:STANDARD
BEGIN:DAYLIGHT
TZOFFSETFROM:-0500
TZOFFSETTO:-0400
TZNAME:EDT
DTSTART:20260308T070000
END:DAYLIGHT
BEGIN:STANDARD
TZOFFSETFROM:-0400
TZOFFSETTO:-0500
TZNAME:EST
DTSTART:20261101T060000
END:STANDARD
END:VTIMEZONE
BEGIN:VEVENT
DTSTART;TZID=America/Los_Angeles:20250628T103000
DTEND;TZID=America/Los_Angeles:20250628T120000
DTSTAMP:20260421T133739
CREATED:20250608T173112Z
LAST-MODIFIED:20260318T191443Z
UID:10000121-1751106600-1751112000@freedomfestivalusa.org
SUMMARY:Conversation with Freedomista Artists
DESCRIPTION:What does it look like to collectively reflect on our journeys to freedom and independence\, Juneteenth to Independence Day? \nThe improvscience Freedom Festival invites people in the US and internationally to come together\, to create and explore and continue organizing for freedom and independence. \nWhat are we celebrating with Juneteenth and Independence Day? What is freedom and independence? How have we come to celebrate Juneteenth?  We celebrate Juneteenth as a federal holiday because formerly enslaved people and their descendants advocated\, organized and marched for decades to have this day recognized and celebrated. \nIn this Freedom Festival Conversation\, Drs. Raquell Holmes and Jessie Fields lead us in a walk through our movements for freedom. You will meet fellow festival attendees and presenters from around the country.  Utilizing the hosts’ playful\, philosophical conversational style\, we will gather to learn who and how people are sharing their stories and dreams in the Freedom Festival. \nJoin this open conversation led by improvscience founder Raquell Holmes and East Side Institute faculty\, Jessie Fields. \n \n\n	\n\n\n	\n		\n	[tec_speakers speaker_link="permalink"]
URL:https://freedomfestivalusa.org/event/conversation-with-freedomista-artists/
LOCATION:Johnny’s Java Coffee Shop\, Cotati CA\, 8492 Gravenstein Hwy\, Cotati\, CA\, United States
END:VEVENT
BEGIN:VEVENT
DTSTART;TZID=America/Los_Angeles:20250628T133000
DTEND;TZID=America/Los_Angeles:20250628T163000
DTSTAMP:20260421T133739
CREATED:20250626T041836Z
LAST-MODIFIED:20250626T051314Z
UID:10000123-1751117400-1751128200@freedomfestivalusa.org
SUMMARY:North Bay Freedomistas\, Fans and Friends of the Festival
DESCRIPTION:What does it look like to collectively reflect on our journeys to freedom and independence\, Juneteenth to Independence Day? \nThe improvscience Freedom Festival invites people in the US and internationally to come together\, to create and explore and continue organizing for freedom and independence. \nWhat are we celebrating with Juneteenth and Independence Day? What is freedom and independence? How have we come to celebrate Juneteenth?  We celebrate Juneteenth as a federal holiday because formerly enslaved people and their descendants advocated\, organized and marched for decades to have this day recognized and celebrated. \nIn this Freedom Festival Conversation\, Drs. Raquell Holmes and Jessie Fields lead us in a walk through our movements for freedom. You will meet fellow festival attendees and presenters from around the country.  Utilizing the hosts’ playful\, philosophical conversational style\, we will gather to learn who and how people are sharing their stories and dreams in the Freedom Festival. \nJoin this open conversation led by improvscience founder Raquell Holmes and East Side Institute faculty\, Jessie Fields. \n \n\n	\n\n\n	\n		\n	[tec_speakers speaker_link="permalink"]
URL:https://freedomfestivalusa.org/event/north-bay-freedomistas-fans-and-friends-of-the-festival/
ATTACH;FMTTYPE=image/jpeg:https://freedomfestivalusa.org/wp-content/uploads/freedom-festival-cheers-celebration.jpg
ORGANIZER;CN="improvscience":MAILTO:info@improvscience.org
END:VEVENT
BEGIN:VEVENT
DTSTART;TZID=America/New_York:20250628T193000
DTEND;TZID=America/New_York:20250628T210000
DTSTAMP:20260421T133739
CREATED:20250605T135740Z
LAST-MODIFIED:20250629T010146Z
UID:10000119-1751139000-1751144400@freedomfestivalusa.org
SUMMARY:Free Will and Determinism in Anime: A discussion of compatibilism in the context of working towards more freedom for all people
DESCRIPTION:What does it look like to collectively reflect on our journeys to freedom and independence\, Juneteenth to Independence Day? \nThe improvscience Freedom Festival invites people in the US and internationally to come together\, to create and explore and continue organizing for freedom and independence. \nWhat are we celebrating with Juneteenth and Independence Day? What is freedom and independence? How have we come to celebrate Juneteenth?  We celebrate Juneteenth as a federal holiday because formerly enslaved people and their descendants advocated\, organized and marched for decades to have this day recognized and celebrated. \nIn this Freedom Festival Conversation\, Drs. Raquell Holmes and Jessie Fields lead us in a walk through our movements for freedom. You will meet fellow festival attendees and presenters from around the country.  Utilizing the hosts’ playful\, philosophical conversational style\, we will gather to learn who and how people are sharing their stories and dreams in the Freedom Festival. \nJoin this open conversation led by improvscience founder Raquell Holmes and East Side Institute faculty\, Jessie Fields. \n \n\n	\n\n\n	\n		\n	[tec_speakers speaker_link="permalink"]
URL:https://freedomfestivalusa.org/event/free-will-and-determinism-in-anime/
ATTACH;FMTTYPE=image/png:https://freedomfestivalusa.org/wp-content/uploads/FreeWill2025-Festival.png
LOCATION:https://freedomfestivalusa.org/event/free-will-and-determinism-in-anime/
END:VEVENT
BEGIN:VEVENT
DTSTART;TZID=America/Los_Angeles:20250629T120000
DTEND;TZID=America/Los_Angeles:20250629T140000
DTSTAMP:20260421T133739
CREATED:20250517T182023Z
LAST-MODIFIED:20250623T010740Z
UID:10000102-1751198400-1751205600@freedomfestivalusa.org
SUMMARY:The Freedom We Make : Queer Artists on Sound\, Struggle\, and Sanctuary Spaces
DESCRIPTION:What does it look like to collectively reflect on our journeys to freedom and independence\, Juneteenth to Independence Day? \nThe improvscience Freedom Festival invites people in the US and internationally to come together\, to create and explore and continue organizing for freedom and independence. \nWhat are we celebrating with Juneteenth and Independence Day? What is freedom and independence? How have we come to celebrate Juneteenth?  We celebrate Juneteenth as a federal holiday because formerly enslaved people and their descendants advocated\, organized and marched for decades to have this day recognized and celebrated. \nIn this Freedom Festival Conversation\, Drs. Raquell Holmes and Jessie Fields lead us in a walk through our movements for freedom. You will meet fellow festival attendees and presenters from around the country.  Utilizing the hosts’ playful\, philosophical conversational style\, we will gather to learn who and how people are sharing their stories and dreams in the Freedom Festival. \nJoin this open conversation led by improvscience founder Raquell Holmes and East Side Institute faculty\, Jessie Fields. \n \n\n	\n\n\n	\n		\n	[tec_speakers speaker_link="permalink"]
URL:https://freedomfestivalusa.org/event/the-freedom-we-make-queer-artists-on-sound-struggle-and-sanctuary-spaces-2/
LOCATION:online
CATEGORIES:Conversations,Performing Arts
ATTACH;FMTTYPE=image/jpeg:https://freedomfestivalusa.org/wp-content/uploads/Freedom_We_Make_Artwork.jpg
END:VEVENT
BEGIN:VEVENT
DTSTART;TZID=America/New_York:20250701T150000
DTEND;TZID=America/New_York:20250701T163000
DTSTAMP:20260421T133739
CREATED:20250526T160213Z
LAST-MODIFIED:20250701T190014Z
UID:10000107-1751382000-1751387400@freedomfestivalusa.org
SUMMARY:Freedom From the Machine: The Uses and Abuses of AI
DESCRIPTION:What does it look like to collectively reflect on our journeys to freedom and independence\, Juneteenth to Independence Day? \nThe improvscience Freedom Festival invites people in the US and internationally to come together\, to create and explore and continue organizing for freedom and independence. \nWhat are we celebrating with Juneteenth and Independence Day? What is freedom and independence? How have we come to celebrate Juneteenth?  We celebrate Juneteenth as a federal holiday because formerly enslaved people and their descendants advocated\, organized and marched for decades to have this day recognized and celebrated. \nIn this Freedom Festival Conversation\, Drs. Raquell Holmes and Jessie Fields lead us in a walk through our movements for freedom. You will meet fellow festival attendees and presenters from around the country.  Utilizing the hosts’ playful\, philosophical conversational style\, we will gather to learn who and how people are sharing their stories and dreams in the Freedom Festival. \nJoin this open conversation led by improvscience founder Raquell Holmes and East Side Institute faculty\, Jessie Fields. \n \n\n	\n\n\n	\n		\n	[tec_speakers speaker_link="permalink"]
URL:https://freedomfestivalusa.org/event/freedom-from-the-machine-the-uses-and-abuses-of-ai/
LOCATION:online
ATTACH;FMTTYPE=image/jpeg:https://freedomfestivalusa.org/wp-content/uploads/AI_Freedom_small.jpeg
ORGANIZER;CN="Nicholas Gross":MAILTO:gross@bu.edu
END:VEVENT
BEGIN:VEVENT
DTSTART;TZID=America/New_York:20250701T200000
DTEND;TZID=America/New_York:20250701T213000
DTSTAMP:20260421T133739
CREATED:20250529T235710Z
LAST-MODIFIED:20250702T013502Z
UID:10000101-1751400000-1751405400@freedomfestivalusa.org
SUMMARY:Online Embodiment Touching Closeup Love: a leaderless and leaderful embodied racial justice practice group
DESCRIPTION:What does it look like to collectively reflect on our journeys to freedom and independence\, Juneteenth to Independence Day? \nThe improvscience Freedom Festival invites people in the US and internationally to come together\, to create and explore and continue organizing for freedom and independence. \nWhat are we celebrating with Juneteenth and Independence Day? What is freedom and independence? How have we come to celebrate Juneteenth?  We celebrate Juneteenth as a federal holiday because formerly enslaved people and their descendants advocated\, organized and marched for decades to have this day recognized and celebrated. \nIn this Freedom Festival Conversation\, Drs. Raquell Holmes and Jessie Fields lead us in a walk through our movements for freedom. You will meet fellow festival attendees and presenters from around the country.  Utilizing the hosts’ playful\, philosophical conversational style\, we will gather to learn who and how people are sharing their stories and dreams in the Freedom Festival. \nJoin this open conversation led by improvscience founder Raquell Holmes and East Side Institute faculty\, Jessie Fields. \n \n\n	\n\n\n	\n		\n	[tec_speakers speaker_link="permalink"]
URL:https://freedomfestivalusa.org/event/online-embodiment-touching-closeup-love-a-leaderless-and-leaderful-embodied-racial-justice-practice-group/
LOCATION:online
ATTACH;FMTTYPE=image/jpeg:https://freedomfestivalusa.org/wp-content/uploads/improvscience-freedom-festival-banner-2-final-web-small-600x400px.jpg
ORGANIZER;CN="C Meranda Flachs-Surmanek":MAILTO:merandissime@gmail.com
END:VEVENT
BEGIN:VEVENT
DTSTART;TZID=America/Los_Angeles:20250702T110000
DTEND;TZID=America/Los_Angeles:20250702T130000
DTSTAMP:20260421T133739
CREATED:20250531T193404Z
LAST-MODIFIED:20250702T193851Z
UID:10000109-1751454000-1751461200@freedomfestivalusa.org
SUMMARY:The Philosophy of Freedom: A Roundtable Exploration
DESCRIPTION:What does it look like to collectively reflect on our journeys to freedom and independence\, Juneteenth to Independence Day? \nThe improvscience Freedom Festival invites people in the US and internationally to come together\, to create and explore and continue organizing for freedom and independence. \nWhat are we celebrating with Juneteenth and Independence Day? What is freedom and independence? How have we come to celebrate Juneteenth?  We celebrate Juneteenth as a federal holiday because formerly enslaved people and their descendants advocated\, organized and marched for decades to have this day recognized and celebrated. \nIn this Freedom Festival Conversation\, Drs. Raquell Holmes and Jessie Fields lead us in a walk through our movements for freedom. You will meet fellow festival attendees and presenters from around the country.  Utilizing the hosts’ playful\, philosophical conversational style\, we will gather to learn who and how people are sharing their stories and dreams in the Freedom Festival. \nJoin this open conversation led by improvscience founder Raquell Holmes and East Side Institute faculty\, Jessie Fields. \n \n\n	\n\n\n	\n		\n	[tec_speakers speaker_link="permalink"]
URL:https://freedomfestivalusa.org/event/the-philosophy-of-freedom-a-roundtable-exploration/
LOCATION:online
CATEGORIES:Conversations
ATTACH;FMTTYPE=image/jpeg:https://freedomfestivalusa.org/wp-content/uploads/improvscience-freedom-festival-banner-2-final-web-small-600x400px.jpg
END:VEVENT
BEGIN:VEVENT
DTSTART;TZID=America/Los_Angeles:20250702T163000
DTEND;TZID=America/Los_Angeles:20250702T173000
DTSTAMP:20260421T133739
CREATED:20250602T042412Z
LAST-MODIFIED:20250702T233350Z
UID:10000113-1751473800-1751477400@freedomfestivalusa.org
SUMMARY:Freedom and Independence: Fields\, Streets and Stars
DESCRIPTION:What does it look like to collectively reflect on our journeys to freedom and independence\, Juneteenth to Independence Day? \nThe improvscience Freedom Festival invites people in the US and internationally to come together\, to create and explore and continue organizing for freedom and independence. \nWhat are we celebrating with Juneteenth and Independence Day? What is freedom and independence? How have we come to celebrate Juneteenth?  We celebrate Juneteenth as a federal holiday because formerly enslaved people and their descendants advocated\, organized and marched for decades to have this day recognized and celebrated. \nIn this Freedom Festival Conversation\, Drs. Raquell Holmes and Jessie Fields lead us in a walk through our movements for freedom. You will meet fellow festival attendees and presenters from around the country.  Utilizing the hosts’ playful\, philosophical conversational style\, we will gather to learn who and how people are sharing their stories and dreams in the Freedom Festival. \nJoin this open conversation led by improvscience founder Raquell Holmes and East Side Institute faculty\, Jessie Fields. \n \n\n	\n\n\n	\n		\n	[tec_speakers speaker_link="permalink"]
URL:https://freedomfestivalusa.org/event/freedom-and-independence-fields-streets-and-stars/
ATTACH;FMTTYPE=image/png:https://freedomfestivalusa.org/wp-content/uploads/Screen-Shot-2022-06-05-at-2.48.05-PM-e1749427507820.png
LOCATION:https://us06web.zoom.us/j/81191553572
END:VEVENT
BEGIN:VEVENT
DTSTART;TZID=America/Los_Angeles:20250703T120000
DTEND;TZID=America/Los_Angeles:20250703T133000
DTSTAMP:20260421T133739
CREATED:20250523T193616Z
LAST-MODIFIED:20250703T142747Z
UID:10000106-1751544000-1751549400@freedomfestivalusa.org
SUMMARY:What to us is the Fourth of July? Does Freedom Ring True
DESCRIPTION:What does it look like to collectively reflect on our journeys to freedom and independence\, Juneteenth to Independence Day? \nThe improvscience Freedom Festival invites people in the US and internationally to come together\, to create and explore and continue organizing for freedom and independence. \nWhat are we celebrating with Juneteenth and Independence Day? What is freedom and independence? How have we come to celebrate Juneteenth?  We celebrate Juneteenth as a federal holiday because formerly enslaved people and their descendants advocated\, organized and marched for decades to have this day recognized and celebrated. \nIn this Freedom Festival Conversation\, Drs. Raquell Holmes and Jessie Fields lead us in a walk through our movements for freedom. You will meet fellow festival attendees and presenters from around the country.  Utilizing the hosts’ playful\, philosophical conversational style\, we will gather to learn who and how people are sharing their stories and dreams in the Freedom Festival. \nJoin this open conversation led by improvscience founder Raquell Holmes and East Side Institute faculty\, Jessie Fields. \n \n\n	\n\n\n	\n		\n	[tec_speakers speaker_link="permalink"]
URL:https://freedomfestivalusa.org/event/what-to-us-is-the-fourth-of-july-does-freedom-ring-true/
LOCATION:online
CATEGORIES:Conversations
ATTACH;FMTTYPE=image/jpeg:https://freedomfestivalusa.org/wp-content/uploads/FF_vs_FD.jpg
END:VEVENT
BEGIN:VEVENT
DTSTART;TZID=America/Los_Angeles:20250703T183000
DTEND;TZID=America/Los_Angeles:20250703T200000
DTSTAMP:20260421T133739
CREATED:20250629T032233Z
LAST-MODIFIED:20250629T033647Z
UID:10000124-1751567400-1751572800@freedomfestivalusa.org
SUMMARY:Creative Playground - Let's Create Freedom and Liberation Together
DESCRIPTION:What does it look like to collectively reflect on our journeys to freedom and independence\, Juneteenth to Independence Day? \nThe improvscience Freedom Festival invites people in the US and internationally to come together\, to create and explore and continue organizing for freedom and independence. \nWhat are we celebrating with Juneteenth and Independence Day? What is freedom and independence? How have we come to celebrate Juneteenth?  We celebrate Juneteenth as a federal holiday because formerly enslaved people and their descendants advocated\, organized and marched for decades to have this day recognized and celebrated. \nIn this Freedom Festival Conversation\, Drs. Raquell Holmes and Jessie Fields lead us in a walk through our movements for freedom. You will meet fellow festival attendees and presenters from around the country.  Utilizing the hosts’ playful\, philosophical conversational style\, we will gather to learn who and how people are sharing their stories and dreams in the Freedom Festival. \nJoin this open conversation led by improvscience founder Raquell Holmes and East Side Institute faculty\, Jessie Fields. \n \n\n	\n\n\n	\n		\n	[tec_speakers speaker_link="permalink"]
URL:https://freedomfestivalusa.org/event/creative-playground-freedom/
LOCATION:online
ATTACH;FMTTYPE=image/png:https://freedomfestivalusa.org/wp-content/uploads/https-cdn.evbuc_.com-images-528860329-154781269324-1-original.20230604-194446.png
END:VEVENT
BEGIN:VEVENT
DTSTART;TZID=America/Los_Angeles:20250704T130000
DTEND;TZID=America/Los_Angeles:20250704T143000
DTSTAMP:20260421T133739
CREATED:20250602T040213Z
LAST-MODIFIED:20260318T191910Z
UID:10000114-1751634000-1751639400@freedomfestivalusa.org
SUMMARY:Freedom Dreams Open Mic & Festival Finale
DESCRIPTION:What does it look like to collectively reflect on our journeys to freedom and independence\, Juneteenth to Independence Day? \nThe improvscience Freedom Festival invites people in the US and internationally to come together\, to create and explore and continue organizing for freedom and independence. \nWhat are we celebrating with Juneteenth and Independence Day? What is freedom and independence? How have we come to celebrate Juneteenth?  We celebrate Juneteenth as a federal holiday because formerly enslaved people and their descendants advocated\, organized and marched for decades to have this day recognized and celebrated. \nIn this Freedom Festival Conversation\, Drs. Raquell Holmes and Jessie Fields lead us in a walk through our movements for freedom. You will meet fellow festival attendees and presenters from around the country.  Utilizing the hosts’ playful\, philosophical conversational style\, we will gather to learn who and how people are sharing their stories and dreams in the Freedom Festival. \nJoin this open conversation led by improvscience founder Raquell Holmes and East Side Institute faculty\, Jessie Fields. \n \n\n	\n\n\n	\n		\n	[tec_speakers speaker_link="permalink"]
URL:https://freedomfestivalusa.org/event/freedom-dreams-open-mic/
ATTACH;FMTTYPE=image/jpeg:https://freedomfestivalusa.org/wp-content/uploads/freedom-festival-connection-contact-us.jpg
LOCATION:https://us06web.zoom.us/j/88623052178
END:VEVENT
BEGIN:VEVENT
DTSTART;TZID=America/Los_Angeles:20250712T110000
DTEND;TZID=America/Los_Angeles:20250712T123000
DTSTAMP:20260421T133739
CREATED:20250701T234828Z
LAST-MODIFIED:20250712T180709Z
UID:10000125-1752318000-1752323400@freedomfestivalusa.org
SUMMARY:Freedomistas - Building Together - Welcome All
DESCRIPTION:What does it look like to collectively reflect on our journeys to freedom and independence\, Juneteenth to Independence Day? \nThe improvscience Freedom Festival invites people in the US and internationally to come together\, to create and explore and continue organizing for freedom and independence. \nWhat are we celebrating with Juneteenth and Independence Day? What is freedom and independence? How have we come to celebrate Juneteenth?  We celebrate Juneteenth as a federal holiday because formerly enslaved people and their descendants advocated\, organized and marched for decades to have this day recognized and celebrated. \nIn this Freedom Festival Conversation\, Drs. Raquell Holmes and Jessie Fields lead us in a walk through our movements for freedom. You will meet fellow festival attendees and presenters from around the country.  Utilizing the hosts’ playful\, philosophical conversational style\, we will gather to learn who and how people are sharing their stories and dreams in the Freedom Festival. \nJoin this open conversation led by improvscience founder Raquell Holmes and East Side Institute faculty\, Jessie Fields. \n \n\n	\n\n\n	\n		\n	[tec_speakers speaker_link="permalink"]
URL:https://freedomfestivalusa.org/event/freedomistas-building-together-welcome-all/
ATTACH;FMTTYPE=image/jpeg:https://freedomfestivalusa.org/wp-content/uploads/1000007252.jpg
LOCATION:https://freedomfestivalusa.org/event/freedomistas-building-together-welcome-all/
END:VEVENT
END:VCALENDAR