BEGIN:VCALENDAR
VERSION:2.0
PRODID:-//Freedom Festival - ECPv6.15.17.1//NONSGML v1.0//EN
CALSCALE:GREGORIAN
METHOD:PUBLISH
X-WR-CALNAME:Freedom Festival
X-ORIGINAL-URL:https://freedomfestivalusa.org
X-WR-CALDESC:Events for Freedom Festival
REFRESH-INTERVAL;VALUE=DURATION:PT1H
X-Robots-Tag:noindex
X-PUBLISHED-TTL:PT1H
BEGIN:VTIMEZONE
TZID:America/Los_Angeles
BEGIN:DAYLIGHT
TZOFFSETFROM:-0800
TZOFFSETTO:-0700
TZNAME:PDT
DTSTART:20250309T100000
END:DAYLIGHT
BEGIN:STANDARD
TZOFFSETFROM:-0700
TZOFFSETTO:-0800
TZNAME:PST
DTSTART:20251102T090000
END:STANDARD
BEGIN:DAYLIGHT
TZOFFSETFROM:-0800
TZOFFSETTO:-0700
TZNAME:PDT
DTSTART:20260308T100000
END:DAYLIGHT
BEGIN:STANDARD
TZOFFSETFROM:-0700
TZOFFSETTO:-0800
TZNAME:PST
DTSTART:20261101T090000
END:STANDARD
BEGIN:DAYLIGHT
TZOFFSETFROM:-0800
TZOFFSETTO:-0700
TZNAME:PDT
DTSTART:20270314T100000
END:DAYLIGHT
BEGIN:STANDARD
TZOFFSETFROM:-0700
TZOFFSETTO:-0800
TZNAME:PST
DTSTART:20271107T090000
END:STANDARD
END:VTIMEZONE
BEGIN:VEVENT
DTSTART;TZID=America/Los_Angeles:20260618T190000
DTEND;TZID=America/Los_Angeles:20260618T210000
DTSTAMP:20260421T023356
CREATED:20260318T233039Z
LAST-MODIFIED:20260421T024802Z
UID:10000135-1781809200-1781816400@freedomfestivalusa.org
SUMMARY:Juneteenth Staged Play Reading written & directed by Enid Pickett
DESCRIPTION:June 18-20th\, 2026. A staged play reading about love. Love of Family\, Faith\, and Freedom. Three acts: 1865-1963-2025. A black family’s journey of struggle and survival living in the USA. Performed by the Enid Pickett Players. Experience this event in person or watch it streaming live. \nEnid Pickett Players\, names only: Bruce Rhodes\, Azalea Abrams\, Elizabeth Daye\, Sarah Baker\, Rylan Bowers-Parr\, Kafoune Diamoutene\, Sabryyah Abdullah\, ReEllis Dotson-Newman\, Zeneta Arthur-Asgill\, N’Game Gray\, Nadia Hill\, WoodRowe Farguheson Jr.\, Christopher Bowers\, Erinn Anova\, Sela Kerr\, Shaun Greenhaigh\, Keenan Webster\, Semiyah Santos\, Enid Pickett \nGeneral Admission – $20 \nStudents and Seniors – $10 \nIn-Person Event tickets can be purchased here: https://www.enidpickett.com/Juneteenth
URL:https://freedomfestivalusa.org/event/juneteenth-staged-play-reading-written-directed-by-enid-pickett-2026/
LOCATION:New Vintage Church\, 3300 Sonoma Avenue\, Santa Rosa\, CA\, United States
ATTACH;FMTTYPE=image/jpeg:https://freedomfestivalusa.org/wp-content/uploads/juneteenth-enid-play-graphic.jpg
ORGANIZER;CN="Enid Pickett":MAILTO:enidpickettpress@gmail.com
END:VEVENT
BEGIN:VEVENT
DTSTART;TZID=America/Los_Angeles:20260701T173000
DTEND;TZID=America/Los_Angeles:20260701T190000
DTSTAMP:20260421T023356
CREATED:20260318T185404Z
LAST-MODIFIED:20260318T185404Z
UID:10000136-1782927000-1782932400@freedomfestivalusa.org
SUMMARY:Poetry by the Bay
DESCRIPTION:Let’s get together and talk about freedom and what it means to each of us\, using the oft forgotten power of poetry. Bring something original or something that resonates with you and share it at our first mic-less open mic poetry reading. \nLight snacks are provided for this after-hours event.
URL:https://freedomfestivalusa.org/event/poetry-by-the-bay-2026/
LOCATION:Roadhouse\, 1580 Eastshore Rd\, Bodega Bay\, CA\, 94923-9758\, United States
ATTACH;FMTTYPE=image/jpeg:https://freedomfestivalusa.org/wp-content/uploads/roadhousesm-logo.jpg
END:VEVENT
BEGIN:VEVENT
DTSTART;TZID=America/Los_Angeles:20260703T110000
DTEND;TZID=America/Los_Angeles:20260703T123000
DTSTAMP:20260421T023356
CREATED:20260409T010312Z
LAST-MODIFIED:20260419T184123Z
UID:10000138-1783076400-1783081800@freedomfestivalusa.org
SUMMARY:What to Us is the Fourth of July?
DESCRIPTION:Reading Excerpts from the Declaration of Independence and from Frederick Douglass \nWe invite you all to join us at the Freedom Festival for a collective reading of excerpts from both the Declaration of Independence and Fredrick Douglass’s speech “What to a slave is the Fourth of July?” We’ll explore in conversation the relationship between these documents and freedom. Collectively\, we can create together our meaning of freedom and the Fourth of July. \n“The Declaration of Independence is one of America’s significant founding documents. On its face\, it is a declaration of war. A look at the structure of the document\, it follows the archetype of 18th century enlightenment thinking\, laying out fundamental principles drawn from the laws of nature and deriving conclusions based on these principles. But over all this\, the document lays out the values that the founders considered to be fundamental to the creation of a government\, and though imperfect\, the values for which the country should continuously strive. \n72 years later\, Frederick Douglass was asked to deliver an Independence Day address to the Rochesters Ladies’ Anti-Slavery Society. The address\, entitled “What to the Slave Is the Fourth of July?” is a lament of the celebration of independence while so many in the US were enslaved. In contrast to the appeal to logic of the Declaration of Independence which strives for lofty goals\, Douglass’s address points out the hypocrisy inherent in the invitation and national celebration. Even so\, Douglass ends his speech “drawing encouragement from the Declaration of Independence [and] the great principles it contains”. \n 
URL:https://freedomfestivalusa.org/event/what-to-us-is-the-forth-of-july-reading-excerpts-from-the-declaration-of-independence-and-from-frederick-douglass/
LOCATION:online
CATEGORIES:Conversations,History
ATTACH;FMTTYPE=image/jpeg:https://freedomfestivalusa.org/wp-content/uploads/FF_vs_FD.jpg
ORGANIZER;CN="Nick Gross":MAILTO:gross@bu.edu
END:VEVENT
END:VCALENDAR