BEGIN:VCALENDAR
VERSION:2.0
PRODID:-//Freedom Festival - ECPv6.15.17.1//NONSGML v1.0//EN
CALSCALE:GREGORIAN
METHOD:PUBLISH
X-WR-CALNAME:Freedom Festival
X-ORIGINAL-URL:https://freedomfestivalusa.org
X-WR-CALDESC:Events for Freedom Festival
REFRESH-INTERVAL;VALUE=DURATION:PT1H
X-Robots-Tag:noindex
X-PUBLISHED-TTL:PT1H
BEGIN:VTIMEZONE
TZID:America/Los_Angeles
BEGIN:DAYLIGHT
TZOFFSETFROM:-0800
TZOFFSETTO:-0700
TZNAME:PDT
DTSTART:20230312T100000
END:DAYLIGHT
BEGIN:STANDARD
TZOFFSETFROM:-0700
TZOFFSETTO:-0800
TZNAME:PST
DTSTART:20231105T090000
END:STANDARD
BEGIN:DAYLIGHT
TZOFFSETFROM:-0800
TZOFFSETTO:-0700
TZNAME:PDT
DTSTART:20240310T100000
END:DAYLIGHT
BEGIN:STANDARD
TZOFFSETFROM:-0700
TZOFFSETTO:-0800
TZNAME:PST
DTSTART:20241103T090000
END:STANDARD
BEGIN:DAYLIGHT
TZOFFSETFROM:-0800
TZOFFSETTO:-0700
TZNAME:PDT
DTSTART:20250309T100000
END:DAYLIGHT
BEGIN:STANDARD
TZOFFSETFROM:-0700
TZOFFSETTO:-0800
TZNAME:PST
DTSTART:20251102T090000
END:STANDARD
END:VTIMEZONE
BEGIN:VEVENT
DTSTART;TZID=America/Los_Angeles:20240615T110000
DTEND;TZID=America/Los_Angeles:20240615T160000
DTSTAMP:20260421T051551
CREATED:20240605T212248Z
LAST-MODIFIED:20240606T182045Z
UID:10000051-1718449200-1718467200@freedomfestivalusa.org
SUMMARY:West Valley Juneteenth Celebration
DESCRIPTION:The Shining Light Foundation and Community Partners present the 4th Annual West Valley Juneteenth Celebration. What to expect: High School Drumline Competition\, Sweet Potato Pie Contest\, Kids Zone\, DJ\, Cultural Exhibition and more. \n \n 
URL:https://freedomfestivalusa.org/event/west-valley-juneteenth-celebration/
LOCATION:Copper Canyon High School\, 9126 W Camelback Road\, Glendale\, AZ\, 85305\, United States
ATTACH;FMTTYPE=image/png:https://freedomfestivalusa.org/wp-content/uploads/slf-logo-e1717620779165.png
END:VEVENT
BEGIN:VEVENT
DTSTART;TZID=America/Los_Angeles:20240615T100000
DTEND;TZID=America/Los_Angeles:20240615T180000
DTSTAMP:20260421T051551
CREATED:20240503T093730Z
LAST-MODIFIED:20260318T205828Z
UID:10000022-1718445600-1718474400@freedomfestivalusa.org
SUMMARY:Sonoma County MLK/Juneteenth Community Festival Celebration
DESCRIPTION:Meet and join the 54th celebration of Juneteenth in Sonoma County. The community that has been celebrating freedom and building opportunities for others for decades in Santa Rosa. Great food\, vendors and music. See the website for more info and sponsorship opportunities.
URL:https://freedomfestivalusa.org/event/sonoma-county-juneteenth/
LOCATION:MLK Park\, Santa Rosa\, California\, 1671 Hendley Street\, Santa Rosa\, CA\, United States
CATEGORIES:Festivals & Fairs,Food & Drink,Kids & Family,Music
ATTACH;FMTTYPE=image/jpeg:https://freedomfestivalusa.org/wp-content/uploads/54th-annual-mlk-juneteenth-festival.jpg
END:VEVENT
BEGIN:VEVENT
DTSTART;TZID=America/Los_Angeles:20240601T130000
DTEND;TZID=America/Los_Angeles:20240601T140000
DTSTAMP:20260421T051551
CREATED:20240517T211059Z
LAST-MODIFIED:20240518T042250Z
UID:10000029-1717246800-1717250400@freedomfestivalusa.org
SUMMARY:Informational Sessions
DESCRIPTION:Wondering if you have something to offer at the Freedom Festival? Wanting to figure out if your idea fits? \nJoin us in a fun\, informational session to discover what others have offered and explore how you can bring your event\, product or service to the festival. Click the event website to register and receive zoom details.
URL:https://freedomfestivalusa.org/event/informational-sessions-5/
ATTACH;FMTTYPE=image/jpeg:https://freedomfestivalusa.org/wp-content/uploads/InfoImage.jpg
ORGANIZER;CN="FF24 Volunteer-Staff":MAILTO:info@freedomfestivalusa.org
END:VEVENT
BEGIN:VEVENT
DTSTART;TZID=America/Los_Angeles:20240525T130000
DTEND;TZID=America/Los_Angeles:20240525T140000
DTSTAMP:20260421T051551
CREATED:20240517T211027Z
LAST-MODIFIED:20240518T041510Z
UID:10000028-1716642000-1716645600@freedomfestivalusa.org
SUMMARY:Informational Sessions
DESCRIPTION:Wondering if you have something to offer at the Freedom Festival? Wanting to figure out if your idea fits? \nJoin us in a fun\, informational session to discover what others have offered and explore how you can bring your event\, product or service to the festival. Click the event website to register and receive zoom details.
URL:https://freedomfestivalusa.org/event/informational-sessions-4/
ATTACH;FMTTYPE=image/jpeg:https://freedomfestivalusa.org/wp-content/uploads/Volunteers.jpg
ORGANIZER;CN="FF24 Volunteer-Staff":MAILTO:info@freedomfestivalusa.org
END:VEVENT
BEGIN:VEVENT
DTSTART;TZID=America/Los_Angeles:20240518T130000
DTEND;TZID=America/Los_Angeles:20240518T140000
DTSTAMP:20260421T051551
CREATED:20240517T210927Z
LAST-MODIFIED:20240517T211011Z
UID:10000027-1716037200-1716040800@freedomfestivalusa.org
SUMMARY:Informational Sessions
DESCRIPTION:Wondering if you have something to offer at the Freedom Festival? Wanting to figure out if your idea fits? \nJoin us in a fun\, informational session to discover what others have offered and explore how you can bring your event\, product or service to the festival. Click the event website to register and receive zoom details.
URL:https://freedomfestivalusa.org/event/informational-sessions-3/
ATTACH;FMTTYPE=image/jpeg:https://freedomfestivalusa.org/wp-content/uploads/freedom-festival-celebration-zoom.jpg
ORGANIZER;CN="FF24 Volunteer-Staff":MAILTO:info@freedomfestivalusa.org
END:VEVENT
END:VCALENDAR